BEGIN:VCALENDAR
VERSION:2.0
PRODID:-//wp-events-plugin.com//7.0.5//EN
TZID:Europe/Berlin
X-WR-TIMEZONE:Europe/Berlin
BEGIN:VEVENT
UID:18@colged.de
DTSTART:20220222T130000Z
DTEND:20220222T150000Z
DTSTAMP:20211215T152426Z
URL:https://www.colged.de/events/verkaufstraining-nutzenargumentation-vert
 iefung-nachbearbeitung/
SUMMARY:Verkaufstraining: Nutzenargumentation Vertiefung & Nachbearbeitung
DESCRIPTION:Online-Verkaufstrainings für Profis:\n\nHier klicken und Flyer
  mit Schulungsübersicht herunterladen!\nDer Schlüssel zum Erfolg\nSie si
 nd Verkaufsprofi und möchten Ihre Kompetenz erweitern? Ich lade Sie ein z
 um gemeinsamemTraining mit Johannes Krauss\, Coach &amp\; Geschäftsführe
 r\, www.krauss-friends.com\n\nUnsere Arbeit wird auf Ihren langjährigen V
 erkaufserfahrungen undKenntnissen basieren. Um gut vorbereitet zu sein\, w
 ird empfohlen\, diemitgelieferte Lektüre vorab zu bearbeiten. Bitte legen
  Sie auch IhreVerkaufsunterlagen bereit\, die Sie bisher in Ihren Verkaufs
 gesprächenerfolgreich eingesetzt haben.\nErarbeiten Sie Ihr eigenes Konze
 pt und erweitern es durch zielführendeFragen im Verkaufsgespräch. Erste 
 Informationen und Fragen werden wirgemeinsam mit allen Teilnehmern in eine
 m ersten Kick Off Meeting am17.01.2022 um 15 Uhr besprechen.\n\nEine Termi
 nübersicht mit sämtlichen Schulungen können sie hier herunterladen!\nIc
 h freue mich auf spannende Trainings mit Ihnen.Bei Fragen rufen Sie mich g
 erne an.  +49 151 6491 0684\nViele Grüße\,\n\nTobias HarmuthVertriebslei
 ter\n\n&nbsp\;\n\nModul:\n\nNutzenargumentation Vertiefung &amp\; Nachbear
 beitung\n22.02.2022\n\nKosten pro Teilnehmer:Pro Unternehmen 150 € je Te
 ilnehmer\,ab dem 3. Teilnehmer je 100 €
CATEGORIES:Schulungen
END:VEVENT
END:VCALENDAR