BEGIN:VCALENDAR
VERSION:2.0
PRODID:-//wp-events-plugin.com//7.0.5//EN
TZID:Europe/Berlin
X-WR-TIMEZONE:Europe/Berlin
BEGIN:VEVENT
UID:100@colged.de
DTSTART;VALUE=DATE:20250408
DTEND;VALUE=DATE:20250409
DTSTAMP:20241212T164949Z
URL:https://www.colged.de/events/techniker-schulung-serie-3-0/
SUMMARY:Techniker Schulung - Serie 3.0
DESCRIPTION:Wir laden dich herzlich zu unserer Tagesschulung für die 3.0 M
 aschinen ein!\nIn dieser Schulung wirst du alles Wichtige über die Funkti
 onen und Technologien\, sowie Tipps und Tricks zu den Maschinen\nerfahren.
 \n\nDetails zur Schulung:\n\nThema: technische Schulung für die aktuelle 
 Maschinenserie 3.0 mit Live Fehlerdiagnose\nDauer: Tagesschulung\nVerpfleg
 ung: Mittagessen\, Snacks und Getränke sind inklusive\n\nHotelzimmer: Ben
 ötigte Hotelzimmer für die Dauer der Schulung (An- und/oder Abreisezimme
 r) kannst du auf\nSelbstzahlerbasis buchen. Auf Wunsch schicken wir dir ge
 rne einen Hotelvorschlag.\n\nAnmeldeschluss: 25. März 2025 (Bitte informi
 ere uns frühzeitig\, falls du nicht an der Schulung teilnehmen kannst.)\n
 Die Agenda mit allen wichtigen Informationen senden wir dir rechtzeitig pe
 r E-Mail zu.\n\nAnmeldeformular: Hier klicken und anmelden!
CATEGORIES:Schulungen
LOCATION:Colged Deutschland\, Robert-Bosch-Str. 2\, Offenburg \, Deutschlan
 d
GEO:48.445603;7.935267
X-APPLE-STRUCTURED-LOCATION;VALUE=URI;X-ADDRESS=Robert-Bosch-Str. 2\, Offen
 burg \, Deutschland;X-APPLE-RADIUS=100;X-TITLE=Colged Deutschland:geo:48.4
 45603,7.935267
END:VEVENT
END:VCALENDAR