BEGIN:VCALENDAR
VERSION:2.0
PRODID:-//wp-events-plugin.com//7.0.5//EN
TZID:Europe/Berlin
X-WR-TIMEZONE:Europe/Berlin
BEGIN:VEVENT
UID:36@colged.de
DTSTART:20230224T080000Z
DTEND:20230224T083000Z
DTSTAMP:20230117T221825Z
URL:https://www.colged.de/events/tausch-und-kalibrierung-der-elektrischen-
 druckschalter/
SUMMARY:Tausch und Kalibrierung der elektrischen Druckschalter
DESCRIPTION:Laden Sie hier die Terminübersicht\, so wie das Anmeldeformula
 r zu unserem Info Kanal Technik 2023 herunter.\n\nEinladung_Info Kanal Tec
 hnik_2023
CATEGORIES:Info Kanal Technik
END:VEVENT
END:VCALENDAR