BEGIN:VCALENDAR
VERSION:2.0
PRODID:-//wp-events-plugin.com//7.0.5//EN
TZID:Europe/Berlin
X-WR-TIMEZONE:Europe/Berlin
BEGIN:VEVENT
UID:22@colged.de
DTSTART:20220121T080000Z
DTEND:20220121T083000Z
DTSTAMP:20211215T153400Z
URL:https://www.colged.de/events/info-kanal-technik-2022-software-update-d
 er-colged-serie-3-0/
SUMMARY:Info-Kanal Technik 2022: Software Update der Colged Serie 3.0
DESCRIPTION:Info-Kanal Technik 2022: \n\n21.01. (Freitag)\, 09:00 - 09:30:
   Software Update der Colged Serie 3.0\n\n\nHier klicken\, Info Material 
 herunterladen und anmelden!
CATEGORIES:Info Kanal Technik
END:VEVENT
END:VCALENDAR