BEGIN:VCALENDAR
VERSION:2.0
PRODID:-//wp-events-plugin.com//7.0.5//EN
TZID:Europe/Berlin
X-WR-TIMEZONE:Europe/Berlin
BEGIN:VEVENT
UID:21@colged.de
DTSTART:20220114T080000Z
DTEND:20220114T083000Z
DTSTAMP:20211215T153303Z
URL:https://www.colged.de/events/info-kanal-technik-2022-einstellung-der-r
 einiger-klarspueldosierung/
SUMMARY:Info-Kanal Technik 2022: Einstellung der Reiniger & Klarspüldosier
 ung
DESCRIPTION:Info-Kanal Technik 2022: \n\n14.01. (Freitag)\, 09:00 - 09:30: 
 Einstellung der Reiniger &amp\; Klarspüldosierung\n\nHier klicken\, Info 
 Material herunterladen und anmelden!
CATEGORIES:Info Kanal Technik
END:VEVENT
END:VCALENDAR