BEGIN:VCALENDAR
VERSION:2.0
PRODID:-//wp-events-plugin.com//7.0.5//EN
TZID:Europe/Berlin
X-WR-TIMEZONE:Europe/Berlin
BEGIN:VEVENT
UID:99@colged.de
DTSTART;VALUE=DATE:20250112
DTEND;VALUE=DATE:20250115
DTSTAMP:20241118T205102Z
URL:https://www.colged.de/events/hoga-nuernberg/
SUMMARY:HOGA Nürnberg 2025
DESCRIPTION:COLGED auf der HOGA 2025 in Nürnberg\n\n12. - 14. Januar\n\nHa
 lle 4\nStand F34\n\nJetzt das Anmeldeformular ausfüllen und dabei sein!
CATEGORIES:Messen
LOCATION:Nürnberg Messe\, Messezentrum 1\, Halle 4\, Stand F34\, Nürnberg
 \, Deutschland
GEO:49.418502;11.119369
X-APPLE-STRUCTURED-LOCATION;VALUE=URI;X-ADDRESS=Messezentrum 1\, Halle 4\, 
 Stand F34\, Nürnberg\, Deutschland;X-APPLE-RADIUS=100;X-TITLE=Nürnberg M
 esse:geo:49.418502,11.119369
END:VEVENT
END:VCALENDAR