BEGIN:VCALENDAR
VERSION:2.0
PRODID:-//wp-events-plugin.com//7.0.5//EN
TZID:Europe/Berlin
X-WR-TIMEZONE:Europe/Berlin
BEGIN:VEVENT
UID:38@colged.de
DTSTART:20230310T080000Z
DTEND:20230310T083000Z
DTSTAMP:20230117T221939Z
URL:https://www.colged.de/events/fehlersuche-wie-ist-vorzugehen/
SUMMARY:Fehlersuche\, wie ist vorzugehen?
DESCRIPTION:Laden Sie hier die Terminübersicht\, so wie das Anmeldeformula
 r zu unserem Info Kanal Technik 2023 herunter.\n\nEinladung_Info Kanal Tec
 hnik_2023
CATEGORIES:Info Kanal Technik
END:VEVENT
END:VCALENDAR