BEGIN:VCALENDAR
VERSION:2.0
PRODID:-//wp-events-plugin.com//7.0.5//EN
TZID:Europe/Berlin
X-WR-TIMEZONE:Europe/Berlin
BEGIN:VEVENT
UID:58@colged.de
DTSTART:20231013T080000Z
DTEND:20231013T083000Z
DTSTAMP:20230811T091729Z
URL:https://www.colged.de/events/die-fehler-er05-bis-er08-fuehlerfehler-wa
 s-steckt-dahinter-2/
SUMMARY:Die Fehler Er05 bis Er08 (Fühlerfehler)\, was steckt dahinter?
DESCRIPTION:Info-Kanal Technik 2023\n\n13.10.2023: Die Fehler Er05 bis Er08
  (Fühlerfehler)\, was steckt dahinter?\n\nMelden Sie sich gerne zu unsere
 m Info-Kanal Technik an.\nDas PDF zur Anmeldung\, sowie eine Übersicht al
 ler Info-Kanal Termine und Themen finden sie hier:\n\n 	Info-Kanal Technik
 : Übersicht und Anmeldung\n
CATEGORIES:Info Kanal Technik
END:VEVENT
END:VCALENDAR